BEGIN:VCALENDAR
VERSION:2.0
PRODID:-//Ordine Internazionale di Sant’Uberto  - ECPv6.15.20//NONSGML v1.0//EN
CALSCALE:GREGORIAN
METHOD:PUBLISH
X-ORIGINAL-URL:https://santuberto.org
X-WR-CALDESC:Events for Ordine Internazionale di Sant’Uberto 
REFRESH-INTERVAL;VALUE=DURATION:PT1H
X-Robots-Tag:noindex
X-PUBLISHED-TTL:PT1H
BEGIN:VTIMEZONE
TZID:UTC
BEGIN:STANDARD
TZOFFSETFROM:+0000
TZOFFSETTO:+0000
TZNAME:UTC
DTSTART:20210101T000000
END:STANDARD
END:VTIMEZONE
BEGIN:VEVENT
DTSTART;TZID=UTC:20221029T080000
DTEND;TZID=UTC:20221029T170000
DTSTAMP:20260423T201420
CREATED:20220209T094850Z
LAST-MODIFIED:20220704T142738Z
UID:125-1667030400-1667062800@santuberto.org
SUMMARY:Battuta al Fagiano
DESCRIPTION:L’ospite sarà il Conte Gianluigi Borghini Baldovinetti. \nArrivo previsto per venerdì 28 con cena dei cavalieri; il costo della battuta al fagiano è di € 2.200 a persona (comprende pasti ed il pernottamento nella Villa; escluse mance).\nSono previste otto/dieci poste in totale.
URL:https://santuberto.org/eventi/battuta-al-fagiano/
LOCATION:Tenuta di San Fabiano\, Via di S. Fabiano\, 33\, Arezzo\, Arezzo\, 52100\, Italy
CATEGORIES:Battuta al Fagiano
ATTACH;FMTTYPE=image/jpeg:https://santuberto.org/wp-content/uploads/2022/02/come-allevare-i-fagiani-it-000.jpg
ORGANIZER;CN="Ordine Internazionale di Sant%E2%80%99Uberto Italia":MAILTO:info@santuberto.org
END:VEVENT
END:VCALENDAR