BEGIN:VCALENDAR
VERSION:2.0
PRODID:-//Ordine Internazionale di Sant’Uberto  - ECPv6.15.20//NONSGML v1.0//EN
CALSCALE:GREGORIAN
METHOD:PUBLISH
X-WR-CALNAME:Ordine Internazionale di Sant’Uberto 
X-ORIGINAL-URL:https://santuberto.org
X-WR-CALDESC:Events for Ordine Internazionale di Sant’Uberto 
REFRESH-INTERVAL;VALUE=DURATION:PT1H
X-Robots-Tag:noindex
X-PUBLISHED-TTL:PT1H
BEGIN:VTIMEZONE
TZID:UTC
BEGIN:STANDARD
TZOFFSETFROM:+0000
TZOFFSETTO:+0000
TZNAME:UTC
DTSTART:20210101T000000
END:STANDARD
END:VTIMEZONE
BEGIN:VEVENT
DTSTART;TZID=UTC:20221111T170000
DTEND;TZID=UTC:20221113T150000
DTSTAMP:20260423T202159
CREATED:20220704T144644Z
LAST-MODIFIED:20220705T115236Z
UID:193-1668186000-1668351600@santuberto.org
SUMMARY:Cerimonia Investiture / Braccata al Cinghiale
DESCRIPTION:La Cerimonia delle nuove Investiture dell’Ordine\, per il 2022\, è in programma in questo fine settimana di novembre 2022. Presenziata dal Gran Maestro\, S.A.I.R. Istvan Habsburg von Loetringen\, ed il Consiglio di Gran Priorato. A corredo dell’evento\, una Braccata al Cinghiale\, domenica 13!\nSiamo ospiti del Gran Priore\, Barone Francesco Lombardo di San Chirico\, e sua sorella Barbara\, nella Tenuta dell’Aiola che si trova tra la splendida val d’Orcia e l’Umbria\, nei pressi di Cetona.\nSabato pomeriggio la cerimonia di investitura per i nuovi cavalieri. Domenica mattina braccata al cinghiale nella tenuta.\nIl programma dettagliato\, sarà inviato per mail.
URL:https://santuberto.org/eventi/cerimonia-in-investiture-e-braccata-al-cinghiale/
LOCATION:Tenuta dell’Aiola\, Strada provinciale per Radicofani\, 478\, Sarteano\, (SI)\, 53047\, Italy
CATEGORIES:Braccata al Cinghiale,Investitura
ATTACH;FMTTYPE=image/jpeg:https://santuberto.org/wp-content/uploads/2022/07/IMG-20220530-WA0012.jpg
ORGANIZER;CN="Ordine Internazionale di Sant%E2%80%99Uberto Italia":MAILTO:info@santuberto.org
END:VEVENT
END:VCALENDAR